BEGIN:VCALENDAR
VERSION:2.0
PRODID:-//Manitoba Conservatory of Music and Arts - ECPv6.15.20//NONSGML v1.0//EN
CALSCALE:GREGORIAN
METHOD:PUBLISH
X-WR-CALNAME:Manitoba Conservatory of Music and Arts
X-ORIGINAL-URL:https://mcma.ca
X-WR-CALDESC:Events for Manitoba Conservatory of Music and Arts
REFRESH-INTERVAL;VALUE=DURATION:PT1H
X-Robots-Tag:noindex
X-PUBLISHED-TTL:PT1H
BEGIN:VTIMEZONE
TZID:America/Toronto
BEGIN:DAYLIGHT
TZOFFSETFROM:-0500
TZOFFSETTO:-0400
TZNAME:EDT
DTSTART:20240310T070000
END:DAYLIGHT
BEGIN:STANDARD
TZOFFSETFROM:-0400
TZOFFSETTO:-0500
TZNAME:EST
DTSTART:20241103T060000
END:STANDARD
BEGIN:DAYLIGHT
TZOFFSETFROM:-0500
TZOFFSETTO:-0400
TZNAME:EDT
DTSTART:20250309T070000
END:DAYLIGHT
BEGIN:STANDARD
TZOFFSETFROM:-0400
TZOFFSETTO:-0500
TZNAME:EST
DTSTART:20251102T060000
END:STANDARD
BEGIN:DAYLIGHT
TZOFFSETFROM:-0500
TZOFFSETTO:-0400
TZNAME:EDT
DTSTART:20260308T070000
END:DAYLIGHT
BEGIN:STANDARD
TZOFFSETFROM:-0400
TZOFFSETTO:-0500
TZNAME:EST
DTSTART:20261101T060000
END:STANDARD
END:VTIMEZONE
BEGIN:VEVENT
DTSTART;TZID=America/Toronto:20250608T130000
DTEND;TZID=America/Toronto:20250608T143000
DTSTAMP:20260421T110423
CREATED:20240812T165937Z
LAST-MODIFIED:20240812T165937Z
UID:10000087-1749387600-1749393000@mcma.ca
SUMMARY:Student year-end recital
DESCRIPTION:Ask your instructor about signing up!
URL:https://mcma.ca/program/student-year-end-recital-2/
LOCATION:Convocation Hall
CATEGORIES:MCMA events
ATTACH;FMTTYPE=image/jpeg:https://mcma.ca/wp-content/uploads/2024/08/pexels-tara-winstead-8850800_website.jpg
END:VEVENT
BEGIN:VEVENT
DTSTART;TZID=America/Toronto:20250614T000000
DTEND;TZID=America/Toronto:20250614T235959
DTSTAMP:20260421T110423
CREATED:20240919T150335Z
LAST-MODIFIED:20240919T150425Z
UID:10000104-1749859200-1749945599@mcma.ca
SUMMARY:Last day of lessons for the academic year
DESCRIPTION:Our last day of lessons for the 2024-2025 academic year will be on Saturday\, June 14.
URL:https://mcma.ca/program/last-day-of-lessons-for-the-academic-year/
LOCATION:Manitoba
CATEGORIES:MCMA events
ATTACH;FMTTYPE=image/jpeg:https://mcma.ca/wp-content/uploads/2024/09/pexels-hatice-uyar-460317377-15652859_website.jpg
END:VEVENT
END:VCALENDAR