BEGIN:VCALENDAR
VERSION:2.0
PRODID:-//Manitoba Conservatory of Music and Arts - ECPv6.15.20//NONSGML v1.0//EN
CALSCALE:GREGORIAN
METHOD:PUBLISH
X-ORIGINAL-URL:https://mcma.ca
X-WR-CALDESC:Events for Manitoba Conservatory of Music and Arts
REFRESH-INTERVAL;VALUE=DURATION:PT1H
X-Robots-Tag:noindex
X-PUBLISHED-TTL:PT1H
BEGIN:VTIMEZONE
TZID:America/Toronto
BEGIN:DAYLIGHT
TZOFFSETFROM:-0500
TZOFFSETTO:-0400
TZNAME:EDT
DTSTART:20250309T070000
END:DAYLIGHT
BEGIN:STANDARD
TZOFFSETFROM:-0400
TZOFFSETTO:-0500
TZNAME:EST
DTSTART:20251102T060000
END:STANDARD
BEGIN:DAYLIGHT
TZOFFSETFROM:-0500
TZOFFSETTO:-0400
TZNAME:EDT
DTSTART:20260308T070000
END:DAYLIGHT
BEGIN:STANDARD
TZOFFSETFROM:-0400
TZOFFSETTO:-0500
TZNAME:EST
DTSTART:20261101T060000
END:STANDARD
BEGIN:DAYLIGHT
TZOFFSETFROM:-0500
TZOFFSETTO:-0400
TZNAME:EDT
DTSTART:20270314T070000
END:DAYLIGHT
BEGIN:STANDARD
TZOFFSETFROM:-0400
TZOFFSETTO:-0500
TZNAME:EST
DTSTART:20271107T060000
END:STANDARD
END:VTIMEZONE
BEGIN:VEVENT
DTSTART;TZID=America/Toronto:20261017T113000
DTEND;TZID=America/Toronto:20261205T121500
DTSTAMP:20260421T151301
CREATED:20260420T152839Z
LAST-MODIFIED:20260420T152859Z
UID:10000254-1792236600-1796472900@mcma.ca
SUMMARY:Musical Storytime-11:30 am (fall)
DESCRIPTION:What can we find as we tiptoe through the forest\, fly through space\, or zoom around in a car? This parented group will explore various themes each week through singing\, movement\, instrument exploration\, and books. This hands-on group is a fun and engaging place to introduce your child to early musical concepts\, build social connections\, and foster a love for music. \nAccessibility: Our ensemble room (where this group class is held) is accessible by a ramp outside Bryce Hall. Once you enter the building\, you’ll find a gender neutral\, accessible washroom available to you. This is next to a push plate activated door leading to our ensemble room. There is a Handi-Transit stop across the street from Bryce Hall. An accessibility map can be viewed here. To request accommodations (including access to Bryce Hall from the top of the ramp)\, please email info@mcma.ca or call 204-988-7650 upon registration. \nTo register\, click on the plus sign on the ticket below to select the desired amount of tickets. Then click on the purple “Get Tickets” button. Fill in the registration information for each student\, then click on the purple “Checkout Now” button. \nIf you are experiencing difficulty with the online registration process\, please call our office at (204) 988-7650 to register by phone. \nIf the class is full\, click on the purple “notify me” button to get notified if a spot becomes available.
URL:https://mcma.ca/program/musical-storytime-1130-am-fall/
LOCATION:Ensemble room\, Bryce Hall\, 515 Portage Avenue\, Winnipeg\, Manitoba\, R3B 2E9\, Canada
CATEGORIES:Children’s classes,Musical Storytime
ATTACH;FMTTYPE=image/webp:https://mcma.ca/wp-content/uploads/2025/10/IMG_5757-2_website.webp
END:VEVENT
BEGIN:VEVENT
DTSTART;TZID=America/Toronto:20261017T123000
DTEND;TZID=America/Toronto:20261205T131500
DTSTAMP:20260421T151301
CREATED:20260420T154722Z
LAST-MODIFIED:20260420T154743Z
UID:10000256-1792240200-1796476500@mcma.ca
SUMMARY:Adventures in Music-12:30 pm (fall)
DESCRIPTION:This un-parented group will use a variety of instruments\, movement songs\, and familiar tunes to create a fun space for connecting and making music. It is a great class for kids who are ready to start learning simple musical skills such as pitch matching\, keeping a steady beat\, and changing tempos. It will also be an introduction to collaborating and engaging in a class environment and developing independence. \nAccessibility: Our ensemble room (where this group class is held) is accessible by a ramp outside Bryce Hall. Once you enter the building\, you’ll find a gender neutral\, accessible washroom available to you. This is next to a push plate activated door leading to our ensemble room. There is a Handi-Transit stop across the street from Bryce Hall. An accessibility map can be viewed here. To request accommodations (including access to Bryce Hall from the top of the ramp)\, please email info@mcma.ca or call 204-988-7650 upon registration. \nTo register\, click on the plus sign on the ticket below to select the desired amount of tickets. Then click on the purple “Get Tickets” button. Fill in the registration information for each student\, then click on the purple “Checkout Now” button. \nIf you are experiencing difficulty with the online registration process\, please call our office at (204) 988-7650 to register by phone. \nIf the class is full\, click on the purple “notify me” button to get notified if a spot becomes available.
URL:https://mcma.ca/program/adventures-in-music-1230-pm-fall/
LOCATION:Ensemble room\, Bryce Hall\, 515 Portage Avenue\, Winnipeg\, Manitoba\, R3B 2E9\, Canada
CATEGORIES:Adventures in Music,Children’s classes
ATTACH;FMTTYPE=image/webp:https://mcma.ca/wp-content/uploads/2025/11/IMG_5564_website.webp
END:VEVENT
BEGIN:VEVENT
DTSTART;TZID=America/Toronto:20261018T133000
DTEND;TZID=America/Toronto:20261206T141500
DTSTAMP:20260421T151301
CREATED:20260420T160301Z
LAST-MODIFIED:20260420T161518Z
UID:10000257-1792330200-1796566500@mcma.ca
SUMMARY:Baby Beats MCMA location-1:30 pm (fall)
DESCRIPTION:Baby Beats is a parented early childhood music program for babies 0-2 that focuses on musical foundations and social skill development. Babies gain fine and gross motor skills\, learn how to wait their turn\, discover tempo and rhythm by dancing and playing with scarves or body percussion\, match pitch and find joy in musical storytelling. \nAccessibility: The chapel (where this group class is held) is accessible by a ramp outside Bryce Hall. Once you enter the building\, you’ll find a gender neutral\, accessible washroom available to you. An accessibility map can be viewed here. To request accommodations (including access to Bryce Hall from the top of the ramp)\, please email info@mcma.ca or call 204-988-7650 upon registration. \nTo register\, click on the plus sign on the ticket below to select the desired amount of tickets. Then click on the purple “Get Tickets” button. Fill in the registration information for each student\, then click on the purple “Checkout Now” button. \nIf you are experiencing difficulty with the online registration process\, please call our office at (204) 988-7650 to register by phone. \nIf the class is full\, click on the purple “notify me” button to get notified if a spot becomes available.
URL:https://mcma.ca/program/baby-beats-mcma-location-130-pm-fall/
LOCATION:Chapel\, Bryce Hall\, 515 Portage Avenue\, Winnipeg\, Manitoba\, R3B 2E9\, Canada
CATEGORIES:Baby Beats,Children’s classes
ATTACH;FMTTYPE=image/webp:https://mcma.ca/wp-content/uploads/2026/02/IMG_7861_website.webp
END:VEVENT
BEGIN:VEVENT
DTSTART;TZID=America/Toronto:20261018T143000
DTEND;TZID=America/Toronto:20261206T151500
DTSTAMP:20260421T151301
CREATED:20260420T161753Z
LAST-MODIFIED:20260420T161816Z
UID:10000258-1792333800-1796570100@mcma.ca
SUMMARY:Baby Beats MCMA location-2:30 pm (fall)
DESCRIPTION:Baby Beats is a parented early childhood music program for babies 0-2 that focuses on musical foundations and social skill development. Babies gain fine and gross motor skills\, learn how to wait their turn\, discover tempo and rhythm by dancing and playing with scarves or body percussion\, match pitch and find joy in musical storytelling. \nAccessibility: The chapel (where this group class is held) is accessible by a ramp outside Bryce Hall. Once you enter the building\, you’ll find a gender neutral\, accessible washroom available to you. An accessibility map can be viewed here. To request accommodations (including access to Bryce Hall from the top of the ramp)\, please email info@mcma.ca or call 204-988-7650 upon registration. \nTo register\, click on the plus sign on the ticket below to select the desired amount of tickets. Then click on the purple “Get Tickets” button. Fill in the registration information for each student\, then click on the purple “Checkout Now” button. \nIf you are experiencing difficulty with the online registration process\, please call our office at (204) 988-7650 to register by phone. \nIf the class is full\, click on the purple “notify me” button to get notified if a spot becomes available.
URL:https://mcma.ca/program/baby-beats-mcma-location-230-pm-fall/
LOCATION:Chapel\, Bryce Hall\, 515 Portage Avenue\, Winnipeg\, Manitoba\, R3B 2E9\, Canada
CATEGORIES:Baby Beats,Children’s classes
ATTACH;FMTTYPE=image/webp:https://mcma.ca/wp-content/uploads/2025/01/IMG_7314_website.webp
END:VEVENT
END:VCALENDAR